BEGIN:VCALENDAR
VERSION:2.0
PRODID:-//Aeve Esgrima - ECPv6.15.20//NONSGML v1.0//EN
CALSCALE:GREGORIAN
METHOD:PUBLISH
X-WR-CALNAME:Aeve Esgrima
X-ORIGINAL-URL:https://aevesgrima.es
X-WR-CALDESC:Eventos para Aeve Esgrima
REFRESH-INTERVAL;VALUE=DURATION:PT1H
X-Robots-Tag:noindex
X-PUBLISHED-TTL:PT1H
BEGIN:VTIMEZONE
TZID:Europe/Madrid
BEGIN:DAYLIGHT
TZOFFSETFROM:+0100
TZOFFSETTO:+0200
TZNAME:CEST
DTSTART:20220327T010000
END:DAYLIGHT
BEGIN:STANDARD
TZOFFSETFROM:+0200
TZOFFSETTO:+0100
TZNAME:CET
DTSTART:20221030T010000
END:STANDARD
BEGIN:DAYLIGHT
TZOFFSETFROM:+0100
TZOFFSETTO:+0200
TZNAME:CEST
DTSTART:20230326T010000
END:DAYLIGHT
BEGIN:STANDARD
TZOFFSETFROM:+0200
TZOFFSETTO:+0100
TZNAME:CET
DTSTART:20231029T010000
END:STANDARD
BEGIN:DAYLIGHT
TZOFFSETFROM:+0100
TZOFFSETTO:+0200
TZNAME:CEST
DTSTART:20240331T010000
END:DAYLIGHT
BEGIN:STANDARD
TZOFFSETFROM:+0200
TZOFFSETTO:+0100
TZNAME:CET
DTSTART:20241027T010000
END:STANDARD
END:VTIMEZONE
BEGIN:VEVENT
DTSTART;VALUE=DATE:20231021
DTEND;VALUE=DATE:20231022
DTSTAMP:20260421T100640
CREATED:20231007T073010Z
LAST-MODIFIED:20240905T104116Z
UID:3817-1697846400-1697932799@aevesgrima.es
SUMMARY:I-TLM-AEVE 23-24
DESCRIPTION:Dossier TLM-AEVE \nHorarios  \nLos horarios están sujetos a modificación en función de la inscripción. \n                                Llamada             Inicio\n \nFlorete                   8:15                   8:45Espada                 10:30                 11:00Sable                     16:30                 17:00 \n  \nInscripción Tiradores Españoles: Via Herramienta Skermo antes del  17/10/2023 Tiradores Extranjeros: Mail          rfee@esgrima.es \n  \nUbicación:             CEM Reina Elisenda                                Avingua J.V.Foix 98                                08034-Barcelona
URL:https://aevesgrima.es/evento/i-tlm-aeve-23-24/
CATEGORIES:espada,florete,sable,TLM
ATTACH;FMTTYPE=image/jpeg:https://aevesgrima.es/wp-content/uploads/2022/08/aeve-rfeetx.jpg
END:VEVENT
END:VCALENDAR