BEGIN:VCALENDAR
VERSION:2.0
PRODID:-//Aeve Esgrima - ECPv6.15.20//NONSGML v1.0//EN
CALSCALE:GREGORIAN
METHOD:PUBLISH
X-ORIGINAL-URL:https://aevesgrima.es
X-WR-CALDESC:Eventos para Aeve Esgrima
REFRESH-INTERVAL;VALUE=DURATION:PT1H
X-Robots-Tag:noindex
X-PUBLISHED-TTL:PT1H
BEGIN:VTIMEZONE
TZID:Europe/Madrid
BEGIN:DAYLIGHT
TZOFFSETFROM:+0100
TZOFFSETTO:+0200
TZNAME:CEST
DTSTART:20230326T010000
END:DAYLIGHT
BEGIN:STANDARD
TZOFFSETFROM:+0200
TZOFFSETTO:+0100
TZNAME:CET
DTSTART:20231029T010000
END:STANDARD
BEGIN:DAYLIGHT
TZOFFSETFROM:+0100
TZOFFSETTO:+0200
TZNAME:CEST
DTSTART:20240331T010000
END:DAYLIGHT
BEGIN:STANDARD
TZOFFSETFROM:+0200
TZOFFSETTO:+0100
TZNAME:CET
DTSTART:20241027T010000
END:STANDARD
BEGIN:DAYLIGHT
TZOFFSETFROM:+0100
TZOFFSETTO:+0200
TZNAME:CEST
DTSTART:20250330T010000
END:DAYLIGHT
BEGIN:STANDARD
TZOFFSETFROM:+0200
TZOFFSETTO:+0100
TZNAME:CET
DTSTART:20251026T010000
END:STANDARD
END:VTIMEZONE
BEGIN:VEVENT
DTSTART;VALUE=DATE:20240210
DTEND;VALUE=DATE:20240211
DTSTAMP:20260421T051658
CREATED:20231007T150104Z
LAST-MODIFIED:20231007T150247Z
UID:3835-1707523200-1707609599@aevesgrima.es
SUMMARY:III-TLM-AEVE 23-24
DESCRIPTION:Dossier TLM-AEVE \nHorarios  \nLos horarios están sujetos a modificación en función de la inscripción. \n  \nInscripción Tiradores Españoles: Via Herramienta Skermo antes del  3/2/2024Tiradores Extranjeros: Mail          rfee@esgrima.es \n  \nUbicación:            \n 
URL:https://aevesgrima.es/evento/iii-tlm-aeve-23-24/
CATEGORIES:espada,florete,sable,TLM
ATTACH;FMTTYPE=image/jpeg:https://aevesgrima.es/wp-content/uploads/2022/08/aeve-rfeetx.jpg
END:VEVENT
END:VCALENDAR